BEGIN:VCALENDAR
METHOD:PUBLISH
VERSION:2.0
PRODID:-//hacksw/handcal//NONSGML v1.0//EN
X-WR-TIMEZONE:Australia/Sydney
CALSCALE:GREGORIAN
BEGIN:VEVENT
DTSTART;TZID=Australia/Sydney:20260517T080000
DTEND;TZID=Australia/Sydney:20260517T153000
UID:177232220469A37D9CB586B923015131886161102069A37D9CB587A993645431
DTSTAMP:20260420T135016
LOCATION:Motorlife Museum, Stream Hill
DESCRIPTION:.
URL;VALUE=URI:http://alfaclubnsw.org.au/events/view.php?id=177232220469A37
 D9CB586B923015131886161102069A37D9CB587A993645431
SUMMARY:CMC National Motor Heritage Day - Motorlife Museum
END:VEVENT
END:VCALENDAR
